BEGIN:VCALENDAR
VERSION:2.0
PRODID:-//5th Division, Pacific Northwest Region, NMRA - ECPv6.5.0.1//NONSGML v1.0//EN
CALSCALE:GREGORIAN
METHOD:PUBLISH
X-WR-CALNAME:5th Division, Pacific Northwest Region, NMRA
X-ORIGINAL-URL:https://staging.pnr5d.org
X-WR-CALDESC:Events for 5th Division, Pacific Northwest Region, NMRA
REFRESH-INTERVAL;VALUE=DURATION:PT1H
X-Robots-Tag:noindex
X-PUBLISHED-TTL:PT1H
BEGIN:VTIMEZONE
TZID:America/Los_Angeles
BEGIN:DAYLIGHT
TZOFFSETFROM:-0800
TZOFFSETTO:-0700
TZNAME:PDT
DTSTART:20250309T100000
END:DAYLIGHT
BEGIN:STANDARD
TZOFFSETFROM:-0700
TZOFFSETTO:-0800
TZNAME:PST
DTSTART:20251102T090000
END:STANDARD
END:VTIMEZONE
BEGIN:VEVENT
DTSTART;VALUE=DATE:20250509
DTEND;VALUE=DATE:20250512
DTSTAMP:20260420T073322
CREATED:20240609T185133Z
LAST-MODIFIED:20240813T011413Z
UID:139-1746748800-1747007999@staging.pnr5d.org
SUMMARY:2025 PNR Convention
DESCRIPTION:
URL:https://staging.pnr5d.org/event/2025-pnr-convention/
LOCATION:Red Lion Hotel & Conference Center Pasco\, 2525 N. 20th Ave\, Pasco\, 99301\, United States
CATEGORIES:Conventions
ATTACH;FMTTYPE=image/png:https://staging.pnr5d.org/wp-content/uploads/2024/08/Ainsworth-Connector.png
END:VEVENT
END:VCALENDAR