BEGIN:VCALENDAR
VERSION:2.0
PRODID:-//5th Division, Pacific Northwest Region, NMRA - ECPv6.5.0.1//NONSGML v1.0//EN
CALSCALE:GREGORIAN
METHOD:PUBLISH
X-WR-CALNAME:5th Division, Pacific Northwest Region, NMRA
X-ORIGINAL-URL:https://staging.pnr5d.org
X-WR-CALDESC:Events for 5th Division, Pacific Northwest Region, NMRA
REFRESH-INTERVAL;VALUE=DURATION:PT1H
X-Robots-Tag:noindex
X-PUBLISHED-TTL:PT1H
BEGIN:VTIMEZONE
TZID:America/Los_Angeles
BEGIN:DAYLIGHT
TZOFFSETFROM:-0800
TZOFFSETTO:-0700
TZNAME:PDT
DTSTART:20240310T100000
END:DAYLIGHT
BEGIN:STANDARD
TZOFFSETFROM:-0700
TZOFFSETTO:-0800
TZNAME:PST
DTSTART:20241103T090000
END:STANDARD
END:VTIMEZONE
BEGIN:VEVENT
DTSTART;TZID=America/Los_Angeles:20241013T093000
DTEND;TZID=America/Los_Angeles:20241013T153000
DTSTAMP:20260419T160737
CREATED:20240609T213251Z
LAST-MODIFIED:20240609T214030Z
UID:177-1728811800-1728833400@staging.pnr5d.org
SUMMARY:Spokane Fall Train Show
DESCRIPTION:200+ tables of railroad related items for sale \nModel and toy trains\, track\, toy autos and trucks\, bridges\, buildings\, scenery and more! \nTrain memorabilia – photographs\, books\, old lanterns\, signs\, china\, linen\, switch locks & keys\, and more! \nOperating layouts. Operation Lifesaver \nFree Parking! Food available! \nAdmission: $8.00 (cash only); 12 years and under free w/ adult \nA portion of the proceeds from the show will be donated to a local children’s charity
URL:https://staging.pnr5d.org/event/spokane-fall-train-show/
LOCATION:Spokane County Fair & Expo Center\, 404 North Havana\, Spokane\, 99202\, United States
CATEGORIES:Train Shows
END:VEVENT
BEGIN:VEVENT
DTSTART;TZID=America/Los_Angeles:20241005T100000
DTEND;TZID=America/Los_Angeles:20241005T160000
DTSTAMP:20260419T160737
CREATED:20240612T015145Z
LAST-MODIFIED:20240612T015202Z
UID:203-1728122400-1728144000@staging.pnr5d.org
SUMMARY:Bridgetown Railroad Prototype Modelers Meet
DESCRIPTION: 
URL:https://staging.pnr5d.org/event/bridgetown-railroad-railroad-prototype-modelers-meet/
LOCATION:Shilo Inns Portland Airport\, 11707 NE Airport Way\, Portland\, OR\, 97220\, United States
CATEGORIES:Train Shows
ATTACH;FMTTYPE=image/jpeg:https://staging.pnr5d.org/wp-content/uploads/2024/06/Screenshot_11-6-2024_184724_www.brpmm_.com_.jpeg
END:VEVENT
END:VCALENDAR